 


BEGIN:VCALENDAR
VERSION:2.0
PRODID:-//wp-events-plugin.com//7.2.3.1//EN
TZID:Europe/London
X-WR-TIMEZONE:Europe/London
BEGIN:VEVENT
UID:328@monckton.com
DTSTART;TZID=Europe/London:20230220T173000
DTEND;TZID=Europe/London:20230220T200000
DTSTAMP:20230216T095247Z
URL:https://www.monckton.com/event/a-conversation-on-private-enforcement-o
 f-competition-law/
SUMMARY:A Conversation on Private Enforcement of Competition Law
DESCRIPTION:To mark the publication of ‘After the damages directive: poli
 cy and practice in the EU member states and the United Kingdom’\, Kluwer
  International are hosting an event\, moderated by Sir Peter Roth.\n\nAnne
 li Howard KC contributed to the publication and will be on the panel Discu
 ssion: 'After the Damages Directive'.\n\nFor further information and to re
 gister\, please click here.
ATTACH;FMTTYPE=image/jpeg:https://www.monckton.com/wp-content/uploads/2019
 /10/Anneli-Howard-HS-27351-scaled.jpg
CATEGORIES:General
LOCATION:Competition Appeal Tribunal\, 8 Salisbury Square \, London \, EC4Y
  8AP\, United Kingdom
GEO:51.513092;-0.106325
X-APPLE-STRUCTURED-LOCATION;VALUE=URI;X-ADDRESS=8 Salisbury Square \, Londo
 n \, EC4Y 8AP\, United Kingdom;X-APPLE-RADIUS=100;X-TITLE=Competition Appe
 al Tribunal:geo:51.513092,-0.106325
END:VEVENT
BEGIN:VTIMEZONE
TZID:Europe/London
X-LIC-LOCATION:Europe/London
BEGIN:STANDARD
DTSTART:20221030T010000
TZOFFSETFROM:+0100
TZOFFSETTO:+0000
TZNAME:GMT
END:STANDARD
END:VTIMEZONE
END:VCALENDAR