 


BEGIN:VCALENDAR
VERSION:2.0
PRODID:-//wp-events-plugin.com//7.2.3.1//EN
TZID:Europe/London
X-WR-TIMEZONE:Europe/London
BEGIN:VEVENT
UID:339@monckton.com
DTSTART;TZID=Europe/London:20230621T090000
DTEND;TZID=Europe/London:20230622T183000
DTSTAMP:20240925T143358Z
URL:https://www.monckton.com/event/3rd-annual-international-antitrust-summ
 er-conference-2023/
SUMMARY:3rd Annual International Antitrust Summer Conference 2023
DESCRIPTION:A two-day conference to discuss national and international tren
 ds and developments - the challenges and opportunities in an age of big da
 ta\, climate change and global economic pressures.\n\nAnneli Howard KC wil
 l be speaking on "Vertical Agreements UK and EU".
ATTACH;FMTTYPE=image/jpeg:https://www.monckton.com/wp-content/uploads/2019
 /10/Anneli-Howard-HS-27351-scaled.jpg
CATEGORIES:General,Seminars
LOCATION:The Law Society\, 113 Chancery Lane\, London\, WC2A 1PL\, United K
 ingdom
GEO:51.514729;-0.112
X-APPLE-STRUCTURED-LOCATION;VALUE=URI;X-ADDRESS=113 Chancery Lane\, London\
 , WC2A 1PL\, United Kingdom;X-APPLE-RADIUS=100;X-TITLE=The Law Society:geo
 :51.514729,-0.112
END:VEVENT
BEGIN:VTIMEZONE
TZID:Europe/London
X-LIC-LOCATION:Europe/London
BEGIN:DAYLIGHT
DTSTART:20230326T020000
TZOFFSETFROM:+0000
TZOFFSETTO:+0100
TZNAME:BST
END:DAYLIGHT
END:VTIMEZONE
END:VCALENDAR