 


BEGIN:VCALENDAR
VERSION:2.0
PRODID:-//wp-events-plugin.com//7.2.3.1//EN
TZID:Europe/London
X-WR-TIMEZONE:Europe/London
BEGIN:VEVENT
UID:344@monckton.com
DTSTART;TZID=Europe/Copenhagen;VALUE=DATE:20230611
DTEND;TZID=Europe/Copenhagen;VALUE=DATE:20230613
DTSTAMP:20230608T084224Z
URL:https://www.monckton.com/event/2023-antitrust-global-private-litigatio
 n-conference/
SUMMARY:2023 Antitrust Global Private Litigation Conference
DESCRIPTION:The conference will present a world-class line-up of private pl
 aintiff and defense litigators\, as well as government enforcers\, economi
 sts\, corporate counsel\, academics\, and jurists from around the globe. T
 hey will share insights into the continuing path of private damages action
 s\, including collective antitrust redress\, cross-jurisdictional settleme
 nt\, and much more.\n\nOn Monday\, 12th June Anneli Howard KC will moderat
 e panel 1: Meet the Enforcers &amp\; Competition Judges.\n\nFor more infor
 mation please click here.
ATTACH;FMTTYPE=image/jpeg:https://www.monckton.com/wp-content/uploads/2019
 /10/Anneli-Howard-HS-27351-scaled.jpg
CATEGORIES:General,Seminars
LOCATION:Hotel D'Angleterre\, 34\, Kongens Nytorv\, Copenhagen\, 1050\, Den
 mark
GEO:55.680524;12.584625
X-APPLE-STRUCTURED-LOCATION;VALUE=URI;X-ADDRESS=34\, Kongens Nytorv\, Copen
 hagen\, 1050\, Denmark;X-APPLE-RADIUS=100;X-TITLE=Hotel D'Angleterre:geo:5
 5.680524,12.584625
END:VEVENT
BEGIN:VTIMEZONE
TZID:Europe/Copenhagen
X-LIC-LOCATION:Europe/Copenhagen
BEGIN:DAYLIGHT
DTSTART:20230326T030000
TZOFFSETFROM:+0100
TZOFFSETTO:+0200
TZNAME:CEST
END:DAYLIGHT
END:VTIMEZONE
END:VCALENDAR